BEGIN:VCALENDAR
VERSION:2.0
PRODID:-//Lifetime Wellness Center of Newnan - ECPv5.3.1.1//NONSGML v1.0//EN
CALSCALE:GREGORIAN
METHOD:PUBLISH
X-WR-CALNAME:Lifetime Wellness Center of Newnan
X-ORIGINAL-URL:https://lifetimewellnessnewnan.com
X-WR-CALDESC:Events for Lifetime Wellness Center of Newnan
BEGIN:VTIMEZONE
TZID:UTC
BEGIN:STANDARD
TZOFFSETFROM:+0000
TZOFFSETTO:+0000
TZNAME:UTC
DTSTART:20180101T000000
END:STANDARD
END:VTIMEZONE
BEGIN:VEVENT
DTSTART;TZID=UTC:20180501T090000
DTEND;TZID=UTC:20180501T170000
DTSTAMP:20260423T233003
CREATED:20180501T154502Z
LAST-MODIFIED:20180501T154502Z
UID:5285-1525165200-1525194000@lifetimewellnessnewnan.com
SUMMARY:Test Event
DESCRIPTION:Test
URL:https://lifetimewellnessnewnan.com/event/test-event/
LOCATION:Test\, 123 test\, test\, ON\, K2E7N1\, Canada
GEO:45.3490243;-75.7137644
X-APPLE-STRUCTURED-LOCATION;VALUE=URI;X-ADDRESS=Test 123 test test ON K2E7N1 Canada;X-APPLE-RADIUS=500;X-TITLE=123 test:geo:-75.7137644,45.3490243
END:VEVENT
END:VCALENDAR