BEGIN:VCALENDAR
VERSION:2.0
PRODID:-//Lifetime Wellness Center of Newnan - ECPv5.3.1.1//NONSGML v1.0//EN
CALSCALE:GREGORIAN
METHOD:PUBLISH
X-WR-CALNAME:Lifetime Wellness Center of Newnan
X-ORIGINAL-URL:https://lifetimewellnessnewnan.com
X-WR-CALDESC:Events for Lifetime Wellness Center of Newnan
BEGIN:VTIMEZONE
TZID:UTC
BEGIN:STANDARD
TZOFFSETFROM:+0000
TZOFFSETTO:+0000
TZNAME:UTC
DTSTART:20180101T000000
END:STANDARD
END:VTIMEZONE
BEGIN:VEVENT
DTSTART;TZID=UTC:20180512T080000
DTEND;TZID=UTC:20180512T170000
DTSTAMP:20260423T232819
CREATED:20180511T172435Z
LAST-MODIFIED:20180511T172435Z
UID:5290-1526112000-1526144400@lifetimewellnessnewnan.com
SUMMARY:Test May 11\, 2018
DESCRIPTION:Test
URL:https://lifetimewellnessnewnan.com/event/test-may-11-2018/
END:VEVENT
END:VCALENDAR