BEGIN:VCALENDAR
VERSION:2.0
PRODID:-//Lifetime Wellness Center of Newnan - ECPv5.3.1.1//NONSGML v1.0//EN
CALSCALE:GREGORIAN
METHOD:PUBLISH
X-WR-CALNAME:Lifetime Wellness Center of Newnan
X-ORIGINAL-URL:https://lifetimewellnessnewnan.com
X-WR-CALDESC:Events for Lifetime Wellness Center of Newnan
BEGIN:VTIMEZONE
TZID:UTC
BEGIN:STANDARD
TZOFFSETFROM:+0000
TZOFFSETTO:+0000
TZNAME:UTC
DTSTART:20180101T000000
END:STANDARD
END:VTIMEZONE
BEGIN:VEVENT
DTSTART;TZID=UTC:20180604T080000
DTEND;TZID=UTC:20180604T170000
DTSTAMP:20260423T221533
CREATED:20180601T144900Z
LAST-MODIFIED:20180601T144900Z
UID:5298-1528099200-1528131600@lifetimewellnessnewnan.com
SUMMARY:test June 1
DESCRIPTION:test
URL:https://lifetimewellnessnewnan.com/event/test-june-1/
LOCATION:Test\, 123 test\, test\, ON\, K2E7N1\, Canada
GEO:45.3490243;-75.7137644
X-APPLE-STRUCTURED-LOCATION;VALUE=URI;X-ADDRESS=Test 123 test test ON K2E7N1 Canada;X-APPLE-RADIUS=500;X-TITLE=123 test:geo:-75.7137644,45.3490243
END:VEVENT
END:VCALENDAR